0.50820148450706
0.00000000000000
0.00000000000000
-0.50820148450706
2351632.51
4212974.58
