0.50776934867884
0.00000000000000
0.00000000000000
-0.50776934867884
2373890.59
4229201.58
