0.84763079691708
0.00000000000000
0.00000000000000
-0.84763079691708
2468670.71865315500000
4211438.39769108500000
