0.84810101871161
0.00000000000000
0.00000000000000
-0.84810101871161
2475994.63445058560000
4211401.07051834840000
