0.84876558899273
0.00000000000000
0.00000000000000
-0.84876558899273
2483308.14924764450000
4211341.87114641260000
