0.84872367443492
0.00000000000000
0.00000000000000
-0.84872367443492
2512591.80784403020000
4227934.33572230580000
