0.84926961554937
0.00000000000000
0.00000000000000
-0.84926961554937
2534508.31765562620000
4222415.91004656720000
