0.84929798267121
0.00000000000000
0.00000000000000
-0.84929798267121
2549122.16623666280000
4222468.13875801860000
