0.84862745443979
0.00000000000000
0.00000000000000
-0.84862745443979
2556429.29095313700000
4222503.66121869810000
