0.50797148408469
0.00000000000000
0.00000000000000
-0.50797148408469
2329291.90
4196812.60
