0.50820015023191
0.00000000000000
0.00000000000000
-0.50820015023191
2366064.20
4201586.83
