0.50801578306393
0.00000000000000
0.00000000000000
-0.50801578306393
2343957.71
4196484.02
