0.50771584653674
0.00000000000000
0.00000000000000
-0.50771584653674
2395441.03
4206680.26
