0.84852707648465
0.00000000000000
0.00000000000000
-0.84852707648465
2461277.07715734280000
4200353.26820317100000
