0.84888288319190
0.00000000000000
0.00000000000000
-0.84888288319190
2483208.74199913020000
4189150.17359605570000
