0.84837203565367
0.00000000000000
0.00000000000000
-0.84837203565367
2497927.37106297300000
4205755.26057088470000
