0.84858597156368
0.00000000000000
0.00000000000000
-0.84858597156368
2519892.93089331450000
4200197.07792580410000
