0.85176635470716
0.00000000000000
0.00000000000000
-0.85176635470716
2549162.38753210100000
4205841.19311941320000
