0.552784
0.000
0.000
-0.552784
2343495.79
4174285.038
