0.577383
0.000
0.000
-0.577383
2343377.708
4168737.293
