0.50778227019735
0.00000000000000
0.00000000000000
-0.50778227019735
2409811.22
4184240.49
