0.50764911478387
0.00000000000000
0.00000000000000
-0.50764911478387
2409589.58
4167601.25
