0.50835939177403
0.00000000000000
0.00000000000000
-0.50835939177403
2475762.38
4183803.64
