0.50840665967287
0.00000000000000
0.00000000000000
-0.50840665967287
2460671.41
4178740.06
