0.50856537935295
0.00000000000000
0.00000000000000
-0.50856537935295
2467990.13
4173094.20
