0.84793069056250
0.00000000000000
0.00000000000000
-0.84793069056250
2475754.15752649210000
4166988.34963993030000
