0.84925469727790
0.00000000000000
0.00000000000000
-0.84925469727790
2497852.68070064350000
4178016.34964083270000
