0.84989364866860
0.00000000000000
0.00000000000000
-0.84989364866860
2505179.58932311320000
4166911.26292311030000
