0.84833341655586
0.00000000000000
0.00000000000000
-0.84833341655586
2252233.86879508480000
4080934.36572295750000
