0.580459
0.000
0.000
-0.580459
2343260.102
4163186.506
