0.551052
0.000
0.000
-0.551052
2357985.728
4162884.932
