0.548384
0.000
0.000
-0.548384
2343142.087
4157636.691
