0.545262
0.000
0.000
-0.545262
2365245.374
4157196.723
