0.536938
0.000
0.000
-0.536938
2343026.181
4152088.424
