0.574399
0.000
0.000
-0.574399
2394713.927
4156699.460
