0.578945
0.000
0.000
-0.578945
2379792.963
4145839.933
