0.50881334744424
0.00000000000000
0.00000000000000
-0.50881334744424
2408950.49
4162370.11
