0.50880613675784
0.00000000000000
0.00000000000000
-0.50880613675784
2408873.66
4156800.71
