0.50875528339707
0.00000000000000
0.00000000000000
-0.50875528339707
2408810.38
4151264.16
