0.50852658678143
0.00000000000000
0.00000000000000
-0.50852658678143
2408746.57
4145879.11
