0.50872767996324
0.00000000000000
0.00000000000000
-0.50872767996324
2416115.86
4145619.50
