0.50852775160426
0.00000000000000
0.00000000000000
-0.50852775160426
2445670.17
4145244.38
