0.50851930295608
0.00000000000000
0.00000000000000
-0.50851930295608
2460565.85
4161786.75
