0.50873091869550
0.00000000000000
0.00000000000000
-0.50873091869550
2467916.85
4161741.16
