0.50893163228158
0.00000000000000
0.00000000000000
-0.50893163228158
2475226.65
4161493.70
