0.50863567660167
0.00000000000000
0.00000000000000
-0.50863567660167
2482634.11
4161677.89
