0.50848564114182
0.00000000000000
0.00000000000000
-0.50848564114182
2460371.19
4145101.20
