0.50898897496223
0.00000000000000
0.00000000000000
-0.50898897496223
2489982.40
4161543.55
